BEGIN:VCALENDAR
VERSION:2.0
PRODID:-//Refined Heart - ECPv6.15.16//NONSGML v1.0//EN
CALSCALE:GREGORIAN
METHOD:PUBLISH
X-WR-CALNAME:Refined Heart
X-ORIGINAL-URL:https://refinedheart.com
X-WR-CALDESC:Events for Refined Heart
REFRESH-INTERVAL;VALUE=DURATION:PT1H
X-Robots-Tag:noindex
X-PUBLISHED-TTL:PT1H
BEGIN:VTIMEZONE
TZID:UTC
BEGIN:STANDARD
TZOFFSETFROM:+0000
TZOFFSETTO:+0000
TZNAME:UTC
DTSTART:20250101T000000
END:STANDARD
END:VTIMEZONE
BEGIN:VEVENT
DTSTART;VALUE=DATE:20260503
DTEND;VALUE=DATE:20260504
DTSTAMP:20260420T173103
CREATED:20260204T174840Z
LAST-MODIFIED:20260304T191332Z
UID:10000071-1777766400-1777852799@refinedheart.com
SUMMARY:Seek
DESCRIPTION:
URL:https://refinedheart.com/event/seek-2/2026-05-03/
LOCATION:Tawheed Center\, 29707 W 10 Mile Road\, Farmington\, MI\, 48336\, United States
ATTACH;FMTTYPE=image/png:https://refinedheart.com/wp-content/uploads/2026/02/seek.png
END:VEVENT
END:VCALENDAR