BEGIN:VCALENDAR
VERSION:2.0
PRODID:-//Refined Heart - ECPv6.15.16//NONSGML v1.0//EN
CALSCALE:GREGORIAN
METHOD:PUBLISH
X-WR-CALNAME:Refined Heart
X-ORIGINAL-URL:https://refinedheart.com
X-WR-CALDESC:Events for Refined Heart
REFRESH-INTERVAL;VALUE=DURATION:PT1H
X-Robots-Tag:noindex
X-PUBLISHED-TTL:PT1H
BEGIN:VTIMEZONE
TZID:UTC
BEGIN:STANDARD
TZOFFSETFROM:+0000
TZOFFSETTO:+0000
TZNAME:UTC
DTSTART:20250101T000000
END:STANDARD
END:VTIMEZONE
BEGIN:VEVENT
DTSTART;VALUE=DATE:20260516
DTEND;VALUE=DATE:20260517
DTSTAMP:20260420T162020
CREATED:20260213T183114Z
LAST-MODIFIED:20260402T162145Z
UID:10000250-1778889600-1778975999@refinedheart.com
SUMMARY:Monthly Tafsir
DESCRIPTION:
URL:https://refinedheart.com/event/monthly-tafsir/2026-05-16/
LOCATION:Rayyan Center\, 46441\, Five Mile Road\, Plymouth\, MI\, 46441\, United States
ATTACH;FMTTYPE=image/png:https://refinedheart.com/wp-content/uploads/2026/02/portraits.png
END:VEVENT
END:VCALENDAR